BEGIN:VCALENDAR
VERSION:2.0
PRODID:-//Italian Training Academy - ECPv6.15.20//NONSGML v1.0//EN
CALSCALE:GREGORIAN
METHOD:PUBLISH
X-WR-CALNAME:Italian Training Academy
X-ORIGINAL-URL:https://ita-training.com
X-WR-CALDESC:Eventi per Italian Training Academy
REFRESH-INTERVAL;VALUE=DURATION:PT1H
X-Robots-Tag:noindex
X-PUBLISHED-TTL:PT1H
BEGIN:VTIMEZONE
TZID:Europe/Rome
BEGIN:DAYLIGHT
TZOFFSETFROM:+0100
TZOFFSETTO:+0200
TZNAME:CEST
DTSTART:20230326T010000
END:DAYLIGHT
BEGIN:STANDARD
TZOFFSETFROM:+0200
TZOFFSETTO:+0100
TZNAME:CET
DTSTART:20231029T010000
END:STANDARD
BEGIN:DAYLIGHT
TZOFFSETFROM:+0100
TZOFFSETTO:+0200
TZNAME:CEST
DTSTART:20240331T010000
END:DAYLIGHT
BEGIN:STANDARD
TZOFFSETFROM:+0200
TZOFFSETTO:+0100
TZNAME:CET
DTSTART:20241027T010000
END:STANDARD
BEGIN:DAYLIGHT
TZOFFSETFROM:+0100
TZOFFSETTO:+0200
TZNAME:CEST
DTSTART:20250330T010000
END:DAYLIGHT
BEGIN:STANDARD
TZOFFSETFROM:+0200
TZOFFSETTO:+0100
TZNAME:CET
DTSTART:20251026T010000
END:STANDARD
END:VTIMEZONE
BEGIN:VEVENT
DTSTART;TZID=Europe/Rome:20240323T140000
DTEND;TZID=Europe/Rome:20240324T180000
DTSTAMP:20260421T211547
CREATED:20231127T142816Z
LAST-MODIFIED:20231127T142816Z
UID:3866-1711202400-1711303200@ita-training.com
SUMMARY:Seminario Difesa Abitativa 360°
DESCRIPTION:Seminario Difesa Abitativa 360°
URL:https://ita-training.com/eventi/seminario-difesa-abitativa-360/
LOCATION:Castel Goffredo (MN)
CATEGORIES:Corso Lotta Militare,Corso tiro Operativo/Difensivo
END:VEVENT
END:VCALENDAR