BEGIN:VCALENDAR
VERSION:2.0
PRODID:-//Italian Training Academy - ECPv6.15.20//NONSGML v1.0//EN
CALSCALE:GREGORIAN
METHOD:PUBLISH
X-WR-CALNAME:Italian Training Academy
X-ORIGINAL-URL:https://ita-training.com
X-WR-CALDESC:Eventi per Italian Training Academy
REFRESH-INTERVAL;VALUE=DURATION:PT1H
X-Robots-Tag:noindex
X-PUBLISHED-TTL:PT1H
BEGIN:VTIMEZONE
TZID:Europe/Rome
BEGIN:DAYLIGHT
TZOFFSETFROM:+0100
TZOFFSETTO:+0200
TZNAME:CEST
DTSTART:20210328T010000
END:DAYLIGHT
BEGIN:STANDARD
TZOFFSETFROM:+0200
TZOFFSETTO:+0100
TZNAME:CET
DTSTART:20211031T010000
END:STANDARD
BEGIN:DAYLIGHT
TZOFFSETFROM:+0100
TZOFFSETTO:+0200
TZNAME:CEST
DTSTART:20220327T010000
END:DAYLIGHT
BEGIN:STANDARD
TZOFFSETFROM:+0200
TZOFFSETTO:+0100
TZNAME:CET
DTSTART:20221030T010000
END:STANDARD
BEGIN:DAYLIGHT
TZOFFSETFROM:+0100
TZOFFSETTO:+0200
TZNAME:CEST
DTSTART:20230326T010000
END:DAYLIGHT
BEGIN:STANDARD
TZOFFSETFROM:+0200
TZOFFSETTO:+0100
TZNAME:CET
DTSTART:20231029T010000
END:STANDARD
END:VTIMEZONE
BEGIN:VEVENT
DTSTART;TZID=Europe/Rome:20220514T083000
DTEND;TZID=Europe/Rome:20220514T170000
DTSTAMP:20260421T171332
CREATED:20220304T134648Z
LAST-MODIFIED:20220304T134734Z
UID:3028-1652517000-1652547600@ita-training.com
SUMMARY:Seminario di Lotta Militare/Difesa Personale Base
DESCRIPTION:Seminario di una giornata dal quale apprendere tecniche base\, semplici ed efficaci
URL:https://ita-training.com/eventi/seminario-lotta-militare-difesa-personale-base/
LOCATION:Castel Goffredo (MN)
CATEGORIES:Corso Lotta Militare
ATTACH;FMTTYPE=application/pdf:https://ita-training.com/wp-content/uploads/2022/03/locandina-dp-14.05.2216384.pdf
END:VEVENT
END:VCALENDAR