BEGIN:VCALENDAR
VERSION:2.0
PRODID:-//Italian Training Academy - ECPv6.15.20//NONSGML v1.0//EN
CALSCALE:GREGORIAN
METHOD:PUBLISH
X-ORIGINAL-URL:https://ita-training.com
X-WR-CALDESC:Eventi per Italian Training Academy
REFRESH-INTERVAL;VALUE=DURATION:PT1H
X-Robots-Tag:noindex
X-PUBLISHED-TTL:PT1H
BEGIN:VTIMEZONE
TZID:Europe/Rome
BEGIN:DAYLIGHT
TZOFFSETFROM:+0100
TZOFFSETTO:+0200
TZNAME:CEST
DTSTART:20190331T010000
END:DAYLIGHT
BEGIN:STANDARD
TZOFFSETFROM:+0200
TZOFFSETTO:+0100
TZNAME:CET
DTSTART:20191027T010000
END:STANDARD
BEGIN:DAYLIGHT
TZOFFSETFROM:+0100
TZOFFSETTO:+0200
TZNAME:CEST
DTSTART:20200329T010000
END:DAYLIGHT
BEGIN:STANDARD
TZOFFSETFROM:+0200
TZOFFSETTO:+0100
TZNAME:CET
DTSTART:20201025T010000
END:STANDARD
BEGIN:DAYLIGHT
TZOFFSETFROM:+0100
TZOFFSETTO:+0200
TZNAME:CEST
DTSTART:20210328T010000
END:DAYLIGHT
BEGIN:STANDARD
TZOFFSETFROM:+0200
TZOFFSETTO:+0100
TZNAME:CET
DTSTART:20211031T010000
END:STANDARD
END:VTIMEZONE
BEGIN:VEVENT
DTSTART;TZID=Europe/Rome:20200208T080000
DTEND;TZID=Europe/Rome:20200210T210000
DTSTAMP:20260422T001400
CREATED:20191202T075311Z
LAST-MODIFIED:20200121T183624Z
UID:1658-1581148800-1581368400@ita-training.com
SUMMARY:STAND I.T.A. - HIT SHOW VICENZA
DESCRIPTION:LA ITALIAN TRAINING ACADEMY SARA’ PRESENTE ALL’HIT SHOW DI VICENZA \nPadiglione 1 Stand 105\n  \nVI ASPETTIAMO PER UN SALUTO….!!!
URL:https://ita-training.com/eventi/stand-i-t-a-hit-show-vicenza/
LOCATION:Vicenza\, Centro Fiera\, Vicenza\, Italia
END:VEVENT
END:VCALENDAR